BEGIN:VCALENDAR
VERSION:2.0
PRODID:-//Creative SEA - ECPv6.15.13.1//NONSGML v1.0//EN
CALSCALE:GREGORIAN
METHOD:PUBLISH
X-WR-CALNAME:Creative SEA
X-ORIGINAL-URL:https://creativesea.org
X-WR-CALDESC:Events for Creative SEA
REFRESH-INTERVAL;VALUE=DURATION:PT1H
X-Robots-Tag:noindex
X-PUBLISHED-TTL:PT1H
BEGIN:VTIMEZONE
TZID:UTC
BEGIN:STANDARD
TZOFFSETFROM:+0000
TZOFFSETTO:+0000
TZNAME:UTC
DTSTART:20250101T000000
END:STANDARD
END:VTIMEZONE
BEGIN:VEVENT
DTSTART;TZID=UTC:20260219T190000
DTEND;TZID=UTC:20260219T210000
DTSTAMP:20260423T132143
CREATED:20260206T172848Z
LAST-MODIFIED:20260207T060927Z
UID:3681-1771527600-1771534800@creativesea.org
SUMMARY:February Community Jazz Jam
DESCRIPTION:The monthly Community Jazz Jam returns to Barrel O’ Fun. \nIt will be on the 3rd Thursday of each month going forward. \n220 Jazz Jam 2
URL:https://creativesea.org/event/february-community-jazz-jam/
LOCATION:Barrel O’ Fun\, 1911 Aldrich St. Ste. 120B\, Austin\, TX\, 78723
ATTACH;FMTTYPE=application/pdf:https://creativesea.org/wp-content/uploads/2026/02/220-Jazz-Jam-2-1.pdf
END:VEVENT
END:VCALENDAR