BEGIN:VCALENDAR
VERSION:2.0
PRODID:-//Creative SEA - ECPv6.15.13.1//NONSGML v1.0//EN
CALSCALE:GREGORIAN
METHOD:PUBLISH
X-ORIGINAL-URL:https://creativesea.org
X-WR-CALDESC:Events for Creative SEA
REFRESH-INTERVAL;VALUE=DURATION:PT1H
X-Robots-Tag:noindex
X-PUBLISHED-TTL:PT1H
BEGIN:VTIMEZONE
TZID:UTC
BEGIN:STANDARD
TZOFFSETFROM:+0000
TZOFFSETTO:+0000
TZNAME:UTC
DTSTART:20240101T000000
END:STANDARD
END:VTIMEZONE
BEGIN:VEVENT
DTSTART;TZID=UTC:20250330T110000
DTEND;TZID=UTC:20250330T140000
DTSTAMP:20260423T114922
CREATED:20250427T045448Z
LAST-MODIFIED:20250330T204731Z
UID:3186-1743332400-1743343200@creativesea.org
SUMMARY:Community Jazz Jam Brunch
DESCRIPTION:Join us for our monthly family-friendly Community Jazz Jam. All levels and styles of jazz players welcome\, as well as spoken word performers\, and dancers.
URL:https://creativesea.org/event/community-jazz-jam-brunch-2/
LOCATION:Barrel O’ Fun\, 1911 Aldrich St. Ste. 120B\, Austin\, TX\, 78723
ATTACH;FMTTYPE=image/jpeg:https://creativesea.org/wp-content/uploads/2025/03/JazzBrunch.jpg
END:VEVENT
END:VCALENDAR