BEGIN:VCALENDAR
VERSION:2.0
PRODID:-//Creative SEA - ECPv6.15.13.1//NONSGML v1.0//EN
CALSCALE:GREGORIAN
METHOD:PUBLISH
X-ORIGINAL-URL:https://creativesea.org
X-WR-CALDESC:Events for Creative SEA
REFRESH-INTERVAL;VALUE=DURATION:PT1H
X-Robots-Tag:noindex
X-PUBLISHED-TTL:PT1H
BEGIN:VTIMEZONE
TZID:UTC
BEGIN:STANDARD
TZOFFSETFROM:+0000
TZOFFSETTO:+0000
TZNAME:UTC
DTSTART:20240101T000000
END:STANDARD
END:VTIMEZONE
BEGIN:VEVENT
DTSTART;TZID=UTC:20250220T190000
DTEND;TZID=UTC:20250220T210000
DTSTAMP:20260423T132321
CREATED:20250128T172354Z
LAST-MODIFIED:20250220T180144Z
UID:3165-1740078000-1740085200@creativesea.org
SUMMARY:Community Song Workshop - South Austin
DESCRIPTION:Our first public Community Song Workshop for 2025.  All ages welcome!
URL:https://creativesea.org/event/community-song-workshop-south-austin/
LOCATION:Captain Quackenbush\, 5326 Menchaca Rd\, Austin\, Texas\, 78745
ATTACH;FMTTYPE=image/png:https://creativesea.org/wp-content/uploads/2025/01/CommSong2.20.25pic.png
END:VEVENT
BEGIN:VEVENT
DTSTART;TZID=UTC:20250223T110000
DTEND;TZID=UTC:20250223T140000
DTSTAMP:20260423T132321
CREATED:20250128T172142Z
LAST-MODIFIED:20250220T180109Z
UID:3163-1740308400-1740319200@creativesea.org
SUMMARY:Community Jazz Jam Brunch
DESCRIPTION:The monthly Community Jazz Jam is trying out the brunch time slot in 2025.  Some folks have trouble driving after dark\, or schedule conflicts.  If there is enough interest in keeping an evening jam going\, we will add that as well.
URL:https://creativesea.org/event/community-jazz-jam-brunch/
LOCATION:Barrel O’ Fun\, 1911 Aldrich St. Ste. 120B\, Austin\, TX\, 78723
ATTACH;FMTTYPE=image/jpeg:https://creativesea.org/wp-content/uploads/2024/10/IMG_2305-crop-400.jpg
END:VEVENT
END:VCALENDAR