BEGIN:VCALENDAR
VERSION:2.0
PRODID:-//Creative SEA - ECPv6.15.13.1//NONSGML v1.0//EN
CALSCALE:GREGORIAN
METHOD:PUBLISH
X-WR-CALNAME:Creative SEA
X-ORIGINAL-URL:https://creativesea.org
X-WR-CALDESC:Events for Creative SEA
REFRESH-INTERVAL;VALUE=DURATION:PT1H
X-Robots-Tag:noindex
X-PUBLISHED-TTL:PT1H
BEGIN:VTIMEZONE
TZID:UTC
BEGIN:STANDARD
TZOFFSETFROM:+0000
TZOFFSETTO:+0000
TZNAME:UTC
DTSTART:20240101T000000
END:STANDARD
END:VTIMEZONE
BEGIN:VEVENT
DTSTART;TZID=UTC:20250119T180000
DTEND;TZID=UTC:20250119T200000
DTSTAMP:20260423T144908
CREATED:20250103T230024Z
LAST-MODIFIED:20250106T022657Z
UID:3092-1737309600-1737316800@creativesea.org
SUMMARY:Community Song Workshop
DESCRIPTION:The CSW is a new program for Creative SEA and will be evolving through 2025.\nSo far\, the format is a mix of group singalong\, open mic\, and informal music workshop.  We encourage folks to participate however they feel comfortable.\n1.  We have a core band to perform and back up guest performers.\n2.  We have an evolving repertoire based on songs that people know\, or are easy to sing as a group.\n3.  Guests can sing\, or play their instruments if they have one.\n4.  Suggest a song and we’ll try to prepare it for Jan 19.\nSee this event on Facebook.
URL:https://creativesea.org/event/community-song-workshop-2/
LOCATION:Location TBA
CATEGORIES:Community Song Workshop
ATTACH;FMTTYPE=image/jpeg:https://creativesea.org/wp-content/uploads/2024/11/watercolor.jpg
END:VEVENT
END:VCALENDAR