BEGIN:VCALENDAR
VERSION:2.0
PRODID:-//Creative SEA - ECPv6.15.13.1//NONSGML v1.0//EN
CALSCALE:GREGORIAN
METHOD:PUBLISH
X-WR-CALNAME:Creative SEA
X-ORIGINAL-URL:https://creativesea.org
X-WR-CALDESC:Events for Creative SEA
REFRESH-INTERVAL;VALUE=DURATION:PT1H
X-Robots-Tag:noindex
X-PUBLISHED-TTL:PT1H
BEGIN:VTIMEZONE
TZID:UTC
BEGIN:STANDARD
TZOFFSETFROM:+0000
TZOFFSETTO:+0000
TZNAME:UTC
DTSTART:20240101T000000
END:STANDARD
END:VTIMEZONE
BEGIN:VEVENT
DTSTART;TZID=UTC:20250426T183000
DTEND;TZID=UTC:20250426T210000
DTSTAMP:20260423T114607
CREATED:20250330T204601Z
LAST-MODIFIED:20250404T232017Z
UID:3200-1745692200-1745701200@creativesea.org
SUMMARY:Earth Day Cabaret
DESCRIPTION:Come celebrate springtime with us.  The cabaret mixes music\, dance\, humor with Earth Day themes.
URL:https://creativesea.org/event/earth-day-cabaret/
LOCATION:Captain Quackenbush\, 5326 Menchaca Rd\, Austin\, Texas\, 78745
ATTACH;FMTTYPE=image/jpeg:https://creativesea.org/wp-content/uploads/2025/03/EarthDay2025.jpeg
END:VEVENT
END:VCALENDAR