BEGIN:VCALENDAR
VERSION:2.0
PRODID:-//Creative SEA - ECPv6.15.13.1//NONSGML v1.0//EN
CALSCALE:GREGORIAN
METHOD:PUBLISH
X-ORIGINAL-URL:https://creativesea.org
X-WR-CALDESC:Events for Creative SEA
REFRESH-INTERVAL;VALUE=DURATION:PT1H
X-Robots-Tag:noindex
X-PUBLISHED-TTL:PT1H
BEGIN:VTIMEZONE
TZID:UTC
BEGIN:STANDARD
TZOFFSETFROM:+0000
TZOFFSETTO:+0000
TZNAME:UTC
DTSTART:20240101T000000
END:STANDARD
END:VTIMEZONE
BEGIN:VEVENT
DTSTART;TZID=UTC:20250411T183000
DTEND;TZID=UTC:20250411T210000
DTSTAMP:20260423T114819
CREATED:20250319T050047Z
LAST-MODIFIED:20250319T050047Z
UID:3191-1744396200-1744405200@creativesea.org
SUMMARY:Spring Community Song Workshop
DESCRIPTION:Do you like to sing\, play music\, and hang out with fun folks? That’s what Community Song Workshop is about.We gather in a relaxed setting to share songs and find common ground through music.Donations Welcome!\nAll Ages & Musical Levels.This project is supported in part by the City of Austin Economic Development Department. \n 
URL:https://creativesea.org/event/spring-community-song-workshop/
LOCATION:Unity Church of the Hills\, 9905 Anderson Mill Rd\, Austin\, TX\, 78750\, United States
ATTACH;FMTTYPE=image/jpeg:https://creativesea.org/wp-content/uploads/2025/03/485310934_10161042618237843_3276730030360332830_n.jpg
END:VEVENT
END:VCALENDAR