BEGIN:VCALENDAR
VERSION:2.0
PRODID:-//Creative SEA - ECPv6.15.13.1//NONSGML v1.0//EN
CALSCALE:GREGORIAN
METHOD:PUBLISH
X-WR-CALNAME:Creative SEA
X-ORIGINAL-URL:https://creativesea.org
X-WR-CALDESC:Events for Creative SEA
REFRESH-INTERVAL;VALUE=DURATION:PT1H
X-Robots-Tag:noindex
X-PUBLISHED-TTL:PT1H
BEGIN:VTIMEZONE
TZID:UTC
BEGIN:STANDARD
TZOFFSETFROM:+0000
TZOFFSETTO:+0000
TZNAME:UTC
DTSTART:20240101T000000
END:STANDARD
END:VTIMEZONE
BEGIN:VEVENT
DTSTART;TZID=UTC:20250405T160000
DTEND;TZID=UTC:20250405T200000
DTSTAMP:20260423T114608
CREATED:20250330T204413Z
LAST-MODIFIED:20250404T231832Z
UID:3197-1743868800-1743883200@creativesea.org
SUMMARY:Emerging Artists Jazz Concert - FREE
DESCRIPTION:For Jazz Appreciation Month\, Creative SEA is co-sponsoring a jazz concert with Austin Jazz Society\, and American Federation of Musicians Local 433.  It will feature younger Austin jazz artists\, artists working on new projects\, and also honoring Austin jazz artists who have passed on. \nThe event will also be a party\, and reflects our mission of social engagement through the arts.  There will be food\, drink\, great music\, and a chance to make new friends. \nThe concert venue is not a commercial establishment\, but at the Union Hall\, located in the IBEW Building on Ben White.  It’s actually pretty convenient\, on the eastbound access road\, with plenty of free parking. \nFree and open to the public.
URL:https://creativesea.org/event/emerging-artists-jazz-concert-free/
LOCATION:IBEW 520\, 4818 E. Ben White\, Austin\, TX\, 78741\, United States
ATTACH;FMTTYPE=image/jpeg:https://creativesea.org/wp-content/uploads/2025/03/EmergingArtists.jpg
END:VEVENT
END:VCALENDAR