BEGIN:VCALENDAR
VERSION:2.0
PRODID:-//Creative SEA - ECPv6.15.13.1//NONSGML v1.0//EN
CALSCALE:GREGORIAN
METHOD:PUBLISH
X-ORIGINAL-URL:https://creativesea.org
X-WR-CALDESC:Events for Creative SEA
REFRESH-INTERVAL;VALUE=DURATION:PT1H
X-Robots-Tag:noindex
X-PUBLISHED-TTL:PT1H
BEGIN:VTIMEZONE
TZID:UTC
BEGIN:STANDARD
TZOFFSETFROM:+0000
TZOFFSETTO:+0000
TZNAME:UTC
DTSTART:20230101T000000
END:STANDARD
END:VTIMEZONE
BEGIN:VEVENT
DTSTART;TZID=UTC:20241229T180000
DTEND;TZID=UTC:20241229T210000
DTSTAMP:20260423T174738
CREATED:20241110T234113Z
LAST-MODIFIED:20241228T232648Z
UID:2590-1735495200-1735506000@creativesea.org
SUMMARY:Community Jazz Jam
DESCRIPTION:
URL:https://creativesea.org/event/community-jazz-jam-2/
LOCATION:Barrel O’ Fun\, 1911 Aldrich St. Ste. 120B\, Austin\, TX\, 78723
CATEGORIES:Community Jazz Jam
ATTACH;FMTTYPE=image/png:https://creativesea.org/wp-content/uploads/2024/11/saxophone-gdb7fca0cc_1920-768x496-1.png
END:VEVENT
END:VCALENDAR