BEGIN:VCALENDAR
VERSION:2.0
PRODID:-//Creative SEA - ECPv6.15.13.1//NONSGML v1.0//EN
CALSCALE:GREGORIAN
METHOD:PUBLISH
X-WR-CALNAME:Creative SEA
X-ORIGINAL-URL:https://creativesea.org
X-WR-CALDESC:Events for Creative SEA
REFRESH-INTERVAL;VALUE=DURATION:PT1H
X-Robots-Tag:noindex
X-PUBLISHED-TTL:PT1H
BEGIN:VTIMEZONE
TZID:UTC
BEGIN:STANDARD
TZOFFSETFROM:+0000
TZOFFSETTO:+0000
TZNAME:UTC
DTSTART:20230101T000000
END:STANDARD
END:VTIMEZONE
BEGIN:VEVENT
DTSTART;TZID=UTC:20241223T190000
DTEND;TZID=UTC:20241223T213000
DTSTAMP:20260423T174614
CREATED:20241113T010536Z
LAST-MODIFIED:20241122T004407Z
UID:2843-1734980400-1734989400@creativesea.org
SUMMARY:Festivus Dance Party
DESCRIPTION:
URL:https://creativesea.org/event/festivus-dance-party/
LOCATION:Highball Lounge\, 1120 S Lamar Blvd.\, Austin\, Texas\, 78704
CATEGORIES:Festivus,Seasonal Concerts
ATTACH;FMTTYPE=image/jpeg:https://creativesea.org/wp-content/uploads/2024/11/Festivus-2024-12.jpg
END:VEVENT
END:VCALENDAR