BEGIN:VCALENDAR
VERSION:2.0
PRODID:-//Creative SEA - ECPv6.15.13.1//NONSGML v1.0//EN
CALSCALE:GREGORIAN
METHOD:PUBLISH
X-ORIGINAL-URL:https://creativesea.org
X-WR-CALDESC:Events for Creative SEA
REFRESH-INTERVAL;VALUE=DURATION:PT1H
X-Robots-Tag:noindex
X-PUBLISHED-TTL:PT1H
BEGIN:VTIMEZONE
TZID:UTC
BEGIN:STANDARD
TZOFFSETFROM:+0000
TZOFFSETTO:+0000
TZNAME:UTC
DTSTART:20230101T000000
END:STANDARD
END:VTIMEZONE
BEGIN:VEVENT
DTSTART;TZID=UTC:20241221T190000
DTEND;TZID=UTC:20241221T210000
DTSTAMP:20260423T174738
CREATED:20241113T011354Z
LAST-MODIFIED:20241122T064701Z
UID:2849-1734807600-1734814800@creativesea.org
SUMMARY:13th Annual Texas Festivus Celebration
DESCRIPTION:View this event on Facebook.
URL:https://creativesea.org/event/13th-annual-texas-festivus-celebration/
LOCATION:Captain Quackenbush\, 5326 Menchaca Rd\, Austin\, Texas\, 78745
CATEGORIES:Festivus,Seasonal Concerts
ATTACH;FMTTYPE=image/jpeg:https://creativesea.org/wp-content/uploads/2024/11/Festivus-2024-12.jpg
END:VEVENT
END:VCALENDAR