BEGIN:VCALENDAR
VERSION:2.0
PRODID:-//Creative SEA - ECPv6.15.13.1//NONSGML v1.0//EN
CALSCALE:GREGORIAN
METHOD:PUBLISH
X-WR-CALNAME:Creative SEA
X-ORIGINAL-URL:https://creativesea.org
X-WR-CALDESC:Events for Creative SEA
REFRESH-INTERVAL;VALUE=DURATION:PT1H
X-Robots-Tag:noindex
X-PUBLISHED-TTL:PT1H
BEGIN:VTIMEZONE
TZID:UTC
BEGIN:STANDARD
TZOFFSETFROM:+0000
TZOFFSETTO:+0000
TZNAME:UTC
DTSTART:20230101T000000
END:STANDARD
END:VTIMEZONE
BEGIN:VEVENT
DTSTART;TZID=UTC:20241207T130000
DTEND;TZID=UTC:20241207T150000
DTSTAMP:20260423T174614
CREATED:20241113T010909Z
LAST-MODIFIED:20241122T004943Z
UID:2846-1733576400-1733583600@creativesea.org
SUMMARY:Community Song Workshop
DESCRIPTION:View this event on Facebook.
URL:https://creativesea.org/event/community-song-workshop-3/
LOCATION:Kickbutt Coffee\, 5775 Airport Blvd Ste 725\, Austin\, Texas\, 78752
CATEGORIES:Community Song Workshop
ATTACH;FMTTYPE=image/jpeg:https://creativesea.org/wp-content/uploads/2024/11/CSW-2024-12-07.jpg
END:VEVENT
END:VCALENDAR